BEGIN:VCALENDAR
VERSION:2.0
PRODID:-//Verte - ECPv6.7.0//NONSGML v1.0//EN
CALSCALE:GREGORIAN
METHOD:PUBLISH
X-WR-CALNAME:Verte
X-ORIGINAL-URL:https://verte.london
X-WR-CALDESC:Events for Verte
REFRESH-INTERVAL;VALUE=DURATION:PT1H
X-Robots-Tag:noindex
X-PUBLISHED-TTL:PT1H
BEGIN:VTIMEZONE
TZID:Europe/London
BEGIN:DAYLIGHT
TZOFFSETFROM:+0000
TZOFFSETTO:+0100
TZNAME:BST
DTSTART:20260329T010000
END:DAYLIGHT
BEGIN:STANDARD
TZOFFSETFROM:+0100
TZOFFSETTO:+0000
TZNAME:GMT
DTSTART:20261025T010000
END:STANDARD
END:VTIMEZONE
BEGIN:VEVENT
DTSTART;TZID=Europe/London:20260424T110000
DTEND;TZID=Europe/London:20260426T160000
DTSTAMP:20260424T110406
CREATED:20260326T101347Z
LAST-MODIFIED:20260417T133815Z
UID:4072-1777028400-1777219200@verte.london
SUMMARY:Verte x Livat
DESCRIPTION:Friday 24th – Sunday 26th April \n11am to 4pm daily \nThe Love Your Stuff for Longer – The Great Re-Love Weekend will feature four dedicated activity zones designed to encourage visitors to extend the life of the items they already own through reuse\, repair and creative customisation. \n\nRenew Station – Customisation Workshops\nRevive Station – Style Swap Clothes Exchange\nReuse Exchange – Books\, Toys & Small Homeware Swap\nRepair Station – Quick Tailor Bar\n\nTICKETS  \n\nSwap – no booking required\nRepairs – no booking required\nWorkshops – https://www.livat.com/hammersmith/en/events/the-great-livat-re-love-weekend-renew-station-workshops\n\n                                            \n  \nThings to note: \n\nThere will be no changing room facilities available\nNo gold rail will be present for this event\nNo accessories are accepted\n5 items per person maximum to swap\n2 items per person maximum to have repaired\nWorkshop spaces are limited\, so if you sign up\, please ensure you attend.
URL:https://verte.london/event/verte-x-livat
LOCATION:LIVAT\, King Street\, London\, Hammersmit\, W6 9HW
ATTACH;FMTTYPE=image/jpeg:https://verte.london/wp-content/uploads/2026/03/IMG_4069-scaled.jpg
ORGANIZER;CN="Verte":MAILTO:hello@verte.london
END:VEVENT
END:VCALENDAR